BEGIN:VCALENDAR
VERSION:2.0
PRODID:-//National Association of Hispanic Journalists - ECPv6.15.20//NONSGML v1.0//EN
CALSCALE:GREGORIAN
METHOD:PUBLISH
X-WR-CALNAME:National Association of Hispanic Journalists
X-ORIGINAL-URL:https://nahj.org
X-WR-CALDESC:Events for National Association of Hispanic Journalists
REFRESH-INTERVAL;VALUE=DURATION:PT1H
X-Robots-Tag:noindex
X-PUBLISHED-TTL:PT1H
BEGIN:VTIMEZONE
TZID:America/New_York
BEGIN:DAYLIGHT
TZOFFSETFROM:-0500
TZOFFSETTO:-0400
TZNAME:EDT
DTSTART:20240310T070000
END:DAYLIGHT
BEGIN:STANDARD
TZOFFSETFROM:-0400
TZOFFSETTO:-0500
TZNAME:EST
DTSTART:20241103T060000
END:STANDARD
BEGIN:DAYLIGHT
TZOFFSETFROM:-0500
TZOFFSETTO:-0400
TZNAME:EDT
DTSTART:20250309T070000
END:DAYLIGHT
BEGIN:STANDARD
TZOFFSETFROM:-0400
TZOFFSETTO:-0500
TZNAME:EST
DTSTART:20251102T060000
END:STANDARD
BEGIN:DAYLIGHT
TZOFFSETFROM:-0500
TZOFFSETTO:-0400
TZNAME:EDT
DTSTART:20260308T070000
END:DAYLIGHT
BEGIN:STANDARD
TZOFFSETFROM:-0400
TZOFFSETTO:-0500
TZNAME:EST
DTSTART:20261101T060000
END:STANDARD
END:VTIMEZONE
BEGIN:VEVENT
DTSTART;TZID=America/New_York:20251007T170000
DTEND;TZID=America/New_York:20251007T180000
DTSTAMP:20260423T103542
CREATED:20251001T155546Z
LAST-MODIFIED:20251001T160307Z
UID:23713-1759856400-1759860000@nahj.org
SUMMARY:Inside the Cabot Prizes: A Conversation with 2025 Winners Nora Gámez Torres & Omaya Sosa Pascual
DESCRIPTION:Meet two of the 2025 Maria Moors Cabot Prize winners\, leading investigative reporters: Nora Gámez Torres\, Miami Herald and El Nuevo Herald\, based in Miami\, and Omaya Sosa Pascual\, Center for Investigative Journalism (CPI)\, from Puerto Rico in conversation with Prof. Elena Cabral\, Assistant Dean\, Student and International Programs at Columbia Journalism School. They will discuss the challenges and opportunities facing investigative reporters today and take your questions.   \nAlso learn about programs at Columbia Journalism School from Tarin M. Almanzar\, Associate Dean\, Admissions and Financial Aid.  \nREGISTER HERE \nThe Maria Moors Cabot Prizes at Columbia Journalism School recognize journalists and news organizations with a distinguished body of work covering the Americas and the Caribbean annually at Columbia University.  \nMore about the 2025 Cabot Prize winners:   \n\nFor more than a decade\, Miami Herald and El Nuevo Herald correspondent Nora Gámez Torres has provided deeply reported\, compelling coverage of Cuba\, becoming the most authoritative voice on the island nation in the U.S. media. With Cuban media under tight government control\, many Cubans also learn about events in their own country through her reporting. Before joining El Nuevo Herald in 2014\, she taught journalism in Havana\, and earned a PhD in Sociology from City University of London. Since the Obama administration\, she has provided essential coverage of  U.S.-Cuba relations and historic developments on the island\, often beating Havana-based competition although she has not been allowed in Cuba for nine years. \nFor almost three decades\, Omaya Sosa Pascual has forged a distinguished journalistic career in Puerto Rico and abroad\, becoming one of the Caribbean’s foremost reporters and editors\, full of energy\, ideas and resolution. In 2007\, she co-founded the Center for Investigative Journalism (CPI)\, the region’s first nonprofit investigative journalism center. Under her leadership\, the CPI became a leading force\, revealing government corruption\, the true death toll from Hurricane Maria in 2017\, electoral irregularities\, and many other highly sensitive issues.  \n\nThe Cabot Prizes honor journalists and news organizations for career excellence and coverage of the Western Hemisphere that furthers inter-American understanding. Godfrey Lowell Cabot of Boston founded the Maria Moors Cabot Prizes as a memorial to his wife in 1938. They are the oldest international journalism awards. 
URL:https://nahj.org/event/inside-the-cabot-prizes-a-conversation-with-2025-winners-nora-gamez-torres-omaya-sosa-pascual/
LOCATION:NY
CATEGORIES:Awards,Webinar
ATTACH;FMTTYPE=image/png:https://nahj.org/wp-content/uploads/2025/10/Cabot-25-event-1.png
END:VEVENT
END:VCALENDAR