BEGIN:VCALENDAR
VERSION:2.0
PRODID:-//National Association of Hispanic Journalists - ECPv6.15.20//NONSGML v1.0//EN
CALSCALE:GREGORIAN
METHOD:PUBLISH
X-ORIGINAL-URL:https://nahj.org
X-WR-CALDESC:Events for National Association of Hispanic Journalists
REFRESH-INTERVAL;VALUE=DURATION:PT1H
X-Robots-Tag:noindex
X-PUBLISHED-TTL:PT1H
BEGIN:VTIMEZONE
TZID:America/New_York
BEGIN:DAYLIGHT
TZOFFSETFROM:-0500
TZOFFSETTO:-0400
TZNAME:EDT
DTSTART:20240310T070000
END:DAYLIGHT
BEGIN:STANDARD
TZOFFSETFROM:-0400
TZOFFSETTO:-0500
TZNAME:EST
DTSTART:20241103T060000
END:STANDARD
BEGIN:DAYLIGHT
TZOFFSETFROM:-0500
TZOFFSETTO:-0400
TZNAME:EDT
DTSTART:20250309T070000
END:DAYLIGHT
BEGIN:STANDARD
TZOFFSETFROM:-0400
TZOFFSETTO:-0500
TZNAME:EST
DTSTART:20251102T060000
END:STANDARD
BEGIN:DAYLIGHT
TZOFFSETFROM:-0500
TZOFFSETTO:-0400
TZNAME:EDT
DTSTART:20260308T070000
END:DAYLIGHT
BEGIN:STANDARD
TZOFFSETFROM:-0400
TZOFFSETTO:-0500
TZNAME:EST
DTSTART:20261101T060000
END:STANDARD
END:VTIMEZONE
BEGIN:VEVENT
DTSTART;TZID=America/New_York:20251107T180000
DTEND;TZID=America/New_York:20251107T210000
DTSTAMP:20260423T090411
CREATED:20250903T152418Z
LAST-MODIFIED:20251105T210135Z
UID:23013-1762538400-1762549200@nahj.org
SUMMARY:2025 Excelencia Awards
DESCRIPTION:The Excelencia Awards honor individuals and organizations whose leadership\, service\, and storytelling advance Latino journalists and communities. Proceeds from the evening support NAHJ’s NextGen programs\, including scholarships\, mentorship\, internships\, and training to build a stronger pipeline of Latino talent in newsrooms nationwide. \nNominations for the Excelencia Awards are open until September 28\, 2025 and honorees will be celebrated during the awards event on November 7\, 2025. Location: New York\, New York (venue TBA). \nTickets to attend are available for purchase here. \n\n\nThis year’s award categories include: \n\nNational Latina Journalist of the Year: Recognizing a Latina journalist for outstanding contributions to the field.\nNational Student of the Year: Celebrating a high school or college student excelling in journalism and leadership.\nÑ Legacy Award: Honoring a journalist with over 10 years of experience who has significantly contributed to the Hispanic community.\nCorporate Impact Award: Recognizing a corporation or organization that has made a significant and lasting contribution to journalism by supporting newsroom sustainability and strengthening community.\nVolunteer of the Year: This award honors an individual whose behind-the-scenes support has made a meaningful difference—uplifting journalists\, empowering truth-tellers\, and strengthening the role of a free press in our communities.\n\nNominations are open to both NAHJ members and non-members. To submit a nomination for NAHJ Excelencia Awards\, click here.
URL:https://nahj.org/event/2025-excelencia-awards/
LOCATION:New York
CATEGORIES:Awards
ATTACH;FMTTYPE=image/png:https://nahj.org/wp-content/uploads/2025/09/EA-25-event-page-banner.png
END:VEVENT
END:VCALENDAR