BEGIN:VCALENDAR
VERSION:2.0
PRODID:-//National Association of Hispanic Journalists - ECPv6.15.20//NONSGML v1.0//EN
CALSCALE:GREGORIAN
METHOD:PUBLISH
X-ORIGINAL-URL:https://nahj.org
X-WR-CALDESC:Events for National Association of Hispanic Journalists
REFRESH-INTERVAL;VALUE=DURATION:PT1H
X-Robots-Tag:noindex
X-PUBLISHED-TTL:PT1H
BEGIN:VTIMEZONE
TZID:America/Chicago
BEGIN:DAYLIGHT
TZOFFSETFROM:-0600
TZOFFSETTO:-0500
TZNAME:CDT
DTSTART:20240310T080000
END:DAYLIGHT
BEGIN:STANDARD
TZOFFSETFROM:-0500
TZOFFSETTO:-0600
TZNAME:CST
DTSTART:20241103T070000
END:STANDARD
BEGIN:DAYLIGHT
TZOFFSETFROM:-0600
TZOFFSETTO:-0500
TZNAME:CDT
DTSTART:20250309T080000
END:DAYLIGHT
BEGIN:STANDARD
TZOFFSETFROM:-0500
TZOFFSETTO:-0600
TZNAME:CST
DTSTART:20251102T070000
END:STANDARD
BEGIN:DAYLIGHT
TZOFFSETFROM:-0600
TZOFFSETTO:-0500
TZNAME:CDT
DTSTART:20260308T080000
END:DAYLIGHT
BEGIN:STANDARD
TZOFFSETFROM:-0500
TZOFFSETTO:-0600
TZNAME:CST
DTSTART:20261101T070000
END:STANDARD
END:VTIMEZONE
BEGIN:VTIMEZONE
TZID:America/New_York
BEGIN:DAYLIGHT
TZOFFSETFROM:-0500
TZOFFSETTO:-0400
TZNAME:EDT
DTSTART:20230312T070000
END:DAYLIGHT
BEGIN:STANDARD
TZOFFSETFROM:-0400
TZOFFSETTO:-0500
TZNAME:EST
DTSTART:20231105T060000
END:STANDARD
BEGIN:DAYLIGHT
TZOFFSETFROM:-0500
TZOFFSETTO:-0400
TZNAME:EDT
DTSTART:20240310T070000
END:DAYLIGHT
BEGIN:STANDARD
TZOFFSETFROM:-0400
TZOFFSETTO:-0500
TZNAME:EST
DTSTART:20241103T060000
END:STANDARD
BEGIN:DAYLIGHT
TZOFFSETFROM:-0500
TZOFFSETTO:-0400
TZNAME:EDT
DTSTART:20250309T070000
END:DAYLIGHT
BEGIN:STANDARD
TZOFFSETFROM:-0400
TZOFFSETTO:-0500
TZNAME:EST
DTSTART:20251102T060000
END:STANDARD
BEGIN:DAYLIGHT
TZOFFSETFROM:-0500
TZOFFSETTO:-0400
TZNAME:EDT
DTSTART:20260308T070000
END:DAYLIGHT
BEGIN:STANDARD
TZOFFSETFROM:-0400
TZOFFSETTO:-0500
TZNAME:EST
DTSTART:20261101T060000
END:STANDARD
END:VTIMEZONE
BEGIN:VEVENT
DTSTART;TZID=America/Chicago:20250709T080000
DTEND;TZID=America/Chicago:20250712T210000
DTSTAMP:20260425T123928
CREATED:20250317T211635Z
LAST-MODIFIED:20250317T212314Z
UID:20489-1752048000-1752354000@nahj.org
SUMMARY:NAHJ 2025 Conference & Expo
DESCRIPTION:The NAHJ25 Conference & Expo is the premier gathering of Latino journalists\, communicators and media professionals\, bringing industry leaders and the future of news media together to exchange ideas\, sharpen their skills and build lasting connections. From dynamic workshops and thought-provoking panels to networking events and a bustling career expo\, NAHJ25 is designed to inspire\, educate and empower. \nLEARN MORE
URL:https://nahj.org/event/nahj-2025-conference-expo/
LOCATION:Hilton Chicago\, 720 S Michigan Ave\, Chicago\, IL\, 60605\, United States
CATEGORIES:Conference
ATTACH;FMTTYPE=image/png:https://nahj.org/wp-content/uploads/2025/03/NAHJ25-Event-page.png
END:VEVENT
BEGIN:VEVENT
DTSTART;TZID=America/New_York:20250610T180000
DTEND;TZID=America/New_York:20250610T190000
DTSTAMP:20260425T123928
CREATED:20250602T192449Z
LAST-MODIFIED:20250602T192449Z
UID:21858-1749578400-1749582000@nahj.org
SUMMARY:How to thrive at NAHJ25
DESCRIPTION:Heading to the NAHJ 2025 Convention in Chicago? Your flight and hotel are booked\, your registration is confirmed\, now it’s time to make the most of your experience! \nJoin us for a webinar that will help you navigate the conference like a pro. \n\nRobert Hernandez\, NAHJ Program Manager\, will share tips on what to expect\, how to plan your schedule\, and the sessions you won’t want to miss.\nSally Ramirez\, Senior VP of News at NBC5/Telemundo Chicago and Chicago native\, will walk you through how to shine at the career fair and leave a lasting impression.\nAnd don’t miss bonus recs from the NAHJ Chicago Chapter on the city’s top spots for food\, fun and must-see attractions while you’re in town.\n\nWhether it’s your first NAHJ conference or your fifth\, this is your guide to thriving in the Windy City! \nREGISTER HERE
URL:https://nahj.org/event/how-to-thrive-at-nahj25/
LOCATION:Virtual Event
CATEGORIES:Conference,Webinar
ATTACH;FMTTYPE=image/png:https://nahj.org/wp-content/uploads/2025/06/How-to-Thrive-at-NAHJ25-Event-Page.png
END:VEVENT
BEGIN:VEVENT
DTSTART;VALUE=DATE:20240709
DTEND;VALUE=DATE:20240714
DTSTAMP:20260425T123928
CREATED:20240510T221431Z
LAST-MODIFIED:20240510T221431Z
UID:16386-1720483200-1720915199@nahj.org
SUMMARY:NAHJ 40th Anniversary Conference & Expo
DESCRIPTION:The NAHJ 40th Anniversary Conference and Expo will bring more than 1\,600 talented journalists to Hollywood\, CA for nearly one week of extensive skills-building sessions that will foster opportunities and enable professional growth. There will be multiple hands-on training sessions\, opportunities for members to meet recruiters\, special events and plenaries\, a Town Hall meeting\, which will open to the public\, and more.
URL:https://nahj.org/event/nahj-40th-anniversary-conference-expo/
LOCATION:Loews Hollywood Hotel\, 1755 Highland Ave.\, Los Angles\, CA\, 90028\, United States
CATEGORIES:Conference
ATTACH;FMTTYPE=image/png:https://nahj.org/wp-content/uploads/2024/05/Lowes-Hotel-WP-featured-image.png
END:VEVENT
END:VCALENDAR