BEGIN:VCALENDAR
VERSION:2.0
PRODID:-//National Association of Hispanic Journalists - ECPv6.15.20//NONSGML v1.0//EN
CALSCALE:GREGORIAN
METHOD:PUBLISH
X-WR-CALNAME:National Association of Hispanic Journalists
X-ORIGINAL-URL:https://nahj.org
X-WR-CALDESC:Events for National Association of Hispanic Journalists
REFRESH-INTERVAL;VALUE=DURATION:PT1H
X-Robots-Tag:noindex
X-PUBLISHED-TTL:PT1H
BEGIN:VTIMEZONE
TZID:America/New_York
BEGIN:DAYLIGHT
TZOFFSETFROM:-0500
TZOFFSETTO:-0400
TZNAME:EDT
DTSTART:20230312T070000
END:DAYLIGHT
BEGIN:STANDARD
TZOFFSETFROM:-0400
TZOFFSETTO:-0500
TZNAME:EST
DTSTART:20231105T060000
END:STANDARD
BEGIN:DAYLIGHT
TZOFFSETFROM:-0500
TZOFFSETTO:-0400
TZNAME:EDT
DTSTART:20240310T070000
END:DAYLIGHT
BEGIN:STANDARD
TZOFFSETFROM:-0400
TZOFFSETTO:-0500
TZNAME:EST
DTSTART:20241103T060000
END:STANDARD
BEGIN:DAYLIGHT
TZOFFSETFROM:-0500
TZOFFSETTO:-0400
TZNAME:EDT
DTSTART:20250309T070000
END:DAYLIGHT
BEGIN:STANDARD
TZOFFSETFROM:-0400
TZOFFSETTO:-0500
TZNAME:EST
DTSTART:20251102T060000
END:STANDARD
END:VTIMEZONE
BEGIN:VEVENT
DTSTART;TZID=America/New_York:20240514T160000
DTEND;TZID=America/New_York:20240514T173000
DTSTAMP:20260426T003001
CREATED:20240506T193203Z
LAST-MODIFIED:20240506T194647Z
UID:16365-1715702400-1715707800@nahj.org
SUMMARY:Behind the Scenes Newsroom Series - ABC News & ESPN
DESCRIPTION:Unlocking Opportunities: Insider Tips to Land Your Dream Role at ABC News/ESPN\nThe Behind the Scenes Newsroom Series is a unique opportunity allows NAHJ members to hear from hiring managers\, recruiters\, and other newsroom staff about their newsroom’s work culture\, environment\, salary\, day-to-day routines\, and more. Connect with ABC News & ESPN staff and learn how to turn your passion into a career. \nREGISTER HERE
URL:https://nahj.org/event/behind-the-scenes-newsroom-series-abc-news-espn/
LOCATION:Virtual Event
CATEGORIES:Recruitment Opportunity
ATTACH;FMTTYPE=image/jpeg:https://nahj.org/wp-content/uploads/2024/05/unnamed-19.jpg
END:VEVENT
END:VCALENDAR