BEGIN:VCALENDAR
VERSION:2.0
PRODID:-//National Association of Hispanic Journalists - ECPv6.15.20//NONSGML v1.0//EN
CALSCALE:GREGORIAN
METHOD:PUBLISH
X-WR-CALNAME:National Association of Hispanic Journalists
X-ORIGINAL-URL:https://nahj.org
X-WR-CALDESC:Events for National Association of Hispanic Journalists
REFRESH-INTERVAL;VALUE=DURATION:PT1H
X-Robots-Tag:noindex
X-PUBLISHED-TTL:PT1H
BEGIN:VTIMEZONE
TZID:America/New_York
BEGIN:DAYLIGHT
TZOFFSETFROM:-0500
TZOFFSETTO:-0400
TZNAME:EDT
DTSTART:20240310T070000
END:DAYLIGHT
BEGIN:STANDARD
TZOFFSETFROM:-0400
TZOFFSETTO:-0500
TZNAME:EST
DTSTART:20241103T060000
END:STANDARD
BEGIN:DAYLIGHT
TZOFFSETFROM:-0500
TZOFFSETTO:-0400
TZNAME:EDT
DTSTART:20250309T070000
END:DAYLIGHT
BEGIN:STANDARD
TZOFFSETFROM:-0400
TZOFFSETTO:-0500
TZNAME:EST
DTSTART:20251102T060000
END:STANDARD
BEGIN:DAYLIGHT
TZOFFSETFROM:-0500
TZOFFSETTO:-0400
TZNAME:EDT
DTSTART:20260308T070000
END:DAYLIGHT
BEGIN:STANDARD
TZOFFSETFROM:-0400
TZOFFSETTO:-0500
TZNAME:EST
DTSTART:20261101T060000
END:STANDARD
END:VTIMEZONE
BEGIN:VEVENT
DTSTART;TZID=America/New_York:20250930T143000
DTEND;TZID=America/New_York:20250930T153000
DTSTAMP:20260423T195939
CREATED:20250918T200411Z
LAST-MODIFIED:20250919T145829Z
UID:23504-1759242600-1759246200@nahj.org
SUMMARY:Protect What Matters: The Shifts in Health Coverage You Can’t Ignore
DESCRIPTION:Learn how to make the most of your health coverage — whether you’re on an employer plan or an individual marketplace plan — in this NAHJ Cares webinar designed to help you prepare for major shifts coming in 2026.   \nThis session will walk you through what to expect during this year’s open enrollment\, including how the administration’s policy shifts on vaccine coverage and the Medicaid cuts in the budget bill could result in big disruptions in our nation’s health system. We’ll explain what these shifts mean\, how it could raise costs and cause some to lose coverage altogether. We’ll close with a look at the broader impact these changes could have on rural hospitals and healthcare access in your community — and how you and your readers can prepare now.   \nDate/Time: Tuesday\, September 30 at 2:30PM PST/ 5:30PM EST\nRegistration Link: https://nahj.memberclicks.net/nahjcareshealth \n  \nMODERATOR AND SPEAKER \nBertha Coombs\nSenior Health Care Reporter\, CNBC \n  \n  \n  \n \nSPEAKER \nStan Dorn\nDirector for Health Policy Project\, UnidosUS \n  \n  \n  \n \nSPEAKER \nIlan Shapiro\nMD\, MBA\, FAAP\, FACHE\, Chief Heal \n  \n  \n  \nIN PARTNERSHIP WITH
URL:https://nahj.org/event/protect-what-matters/
LOCATION:Virtual Event
CATEGORIES:Training,Webinar
ATTACH;FMTTYPE=image/png:https://nahj.org/wp-content/uploads/2025/09/NAHJ-Cares-Health-Event.png
END:VEVENT
END:VCALENDAR