BEGIN:VCALENDAR
VERSION:2.0
PRODID:-//National Association of Hispanic Journalists - ECPv6.15.20//NONSGML v1.0//EN
CALSCALE:GREGORIAN
METHOD:PUBLISH
X-ORIGINAL-URL:https://nahj.org
X-WR-CALDESC:Events for National Association of Hispanic Journalists
REFRESH-INTERVAL;VALUE=DURATION:PT1H
X-Robots-Tag:noindex
X-PUBLISHED-TTL:PT1H
BEGIN:VTIMEZONE
TZID:America/New_York
BEGIN:DAYLIGHT
TZOFFSETFROM:-0500
TZOFFSETTO:-0400
TZNAME:EDT
DTSTART:20240310T070000
END:DAYLIGHT
BEGIN:STANDARD
TZOFFSETFROM:-0400
TZOFFSETTO:-0500
TZNAME:EST
DTSTART:20241103T060000
END:STANDARD
BEGIN:DAYLIGHT
TZOFFSETFROM:-0500
TZOFFSETTO:-0400
TZNAME:EDT
DTSTART:20250309T070000
END:DAYLIGHT
BEGIN:STANDARD
TZOFFSETFROM:-0400
TZOFFSETTO:-0500
TZNAME:EST
DTSTART:20251102T060000
END:STANDARD
BEGIN:DAYLIGHT
TZOFFSETFROM:-0500
TZOFFSETTO:-0400
TZNAME:EDT
DTSTART:20260308T070000
END:DAYLIGHT
BEGIN:STANDARD
TZOFFSETFROM:-0400
TZOFFSETTO:-0500
TZNAME:EST
DTSTART:20261101T060000
END:STANDARD
END:VTIMEZONE
BEGIN:VEVENT
DTSTART;TZID=America/New_York:20251112T180000
DTEND;TZID=America/New_York:20251112T190000
DTSTAMP:20260423T165023
CREATED:20251104T195547Z
LAST-MODIFIED:20251104T195547Z
UID:24177-1762970400-1762974000@nahj.org
SUMMARY:Unlocking Rolli IQ: Free Social Media Intelligence for NAHJ Members
DESCRIPTION:Discover how to unlock the power of Rolli IQ to uncover hidden conversations\, spot suspicious activity\, and track evolving stories across languages\, communities\, and platforms. In this live walkthrough\, you’ll see how Rolli IQ replaces costly media monitoring tools\, breaks through algorithmic silos\, and gives journalists powerful\, accessible technology to capture the full story. \nRegister here: https://nahj.memberclicks.net/RolliIQ
URL:https://nahj.org/event/unlocking-rolli/
LOCATION:Virtual Event
CATEGORIES:Training,Webinar
ATTACH;FMTTYPE=image/jpeg:https://nahj.org/wp-content/uploads/2025/11/NAHJ_RolliIQ_Sq01.jpeg
END:VEVENT
BEGIN:VEVENT
DTSTART;TZID=America/New_York:20251119T183000
DTEND;TZID=America/New_York:20251119T193000
DTSTAMP:20260423T165023
CREATED:20251029T184140Z
LAST-MODIFIED:20251029T215119Z
UID:24097-1763577000-1763580600@nahj.org
SUMMARY:The State of the Climate: What Scientists Know and Journalists Must Tell
DESCRIPTION:Topic: The Current State of the Climate: What Scientists Are Saying and Why It’s Urgent to Communicate It. John Morales will explain the climate changes we’re experiencing today\, how science interprets them and why communicators play a key role in delivering this message in an accessible and responsible way. This webinar is open to all NAHJ members. To become a member\, click here. \nREGISTER HERE: nahj.memberclicks.net/stateofclimate \n  \nSPEAKERS \n \nJohn Morales\nNBC 6 South Florida \n  \n  \n  \n  \n  \n Ana Bueno\nUnivision 45\, Houston\n \n 
URL:https://nahj.org/event/stateofclimate/
LOCATION:Virtual Event
CATEGORIES:Sachamama
ATTACH;FMTTYPE=image/png:https://nahj.org/wp-content/uploads/2025/10/Sachamama-Webinar-Final-2.png
END:VEVENT
END:VCALENDAR