BEGIN:VCALENDAR
VERSION:2.0
PRODID:-//National Association of Hispanic Journalists - ECPv6.15.20//NONSGML v1.0//EN
CALSCALE:GREGORIAN
METHOD:PUBLISH
X-ORIGINAL-URL:https://nahj.org
X-WR-CALDESC:Events for National Association of Hispanic Journalists
REFRESH-INTERVAL;VALUE=DURATION:PT1H
X-Robots-Tag:noindex
X-PUBLISHED-TTL:PT1H
BEGIN:VTIMEZONE
TZID:America/New_York
BEGIN:DAYLIGHT
TZOFFSETFROM:-0500
TZOFFSETTO:-0400
TZNAME:EDT
DTSTART:20250309T070000
END:DAYLIGHT
BEGIN:STANDARD
TZOFFSETFROM:-0400
TZOFFSETTO:-0500
TZNAME:EST
DTSTART:20251102T060000
END:STANDARD
BEGIN:DAYLIGHT
TZOFFSETFROM:-0500
TZOFFSETTO:-0400
TZNAME:EDT
DTSTART:20260308T070000
END:DAYLIGHT
BEGIN:STANDARD
TZOFFSETFROM:-0400
TZOFFSETTO:-0500
TZNAME:EST
DTSTART:20261101T060000
END:STANDARD
BEGIN:DAYLIGHT
TZOFFSETFROM:-0500
TZOFFSETTO:-0400
TZNAME:EDT
DTSTART:20270314T070000
END:DAYLIGHT
BEGIN:STANDARD
TZOFFSETFROM:-0400
TZOFFSETTO:-0500
TZNAME:EST
DTSTART:20271107T060000
END:STANDARD
END:VTIMEZONE
BEGIN:VEVENT
DTSTART;TZID=America/New_York:20260331T180000
DTEND;TZID=America/New_York:20260331T193000
DTSTAMP:20260423T110527
CREATED:20260313T183744Z
LAST-MODIFIED:20260313T184755Z
UID:25711-1774980000-1774985400@nahj.org
SUMMARY:Media Law and Press Freedom in the Current Administration (Webinar)
DESCRIPTION:Webinar: Media Law for Journalists: Media Law and Press Freedom in the Current Administration \nDate/Time: Tuesday\, March 31 at 6pm ET \nSummary: Journalists\, news organizations\, and other media companies are facing unprecedented challenges from multiple directions under the current administration. In this session\, we’ll evaluate the angles of attack and discuss how to exercise First Amendment rights in the face of hostility and near-constant threats.  \nSpeaker(s):\n \n\nJeffrey P. Hermes\, Deputy Director\, Media Law Resource Center\nGeorge Freeman\, Executive Director\, Media Law Resource Center \n\nRegister here: https://nahj.memberclicks.net/medialawpressfreedom
URL:https://nahj.org/event/press-freedom-in-the-current-administration-webinar/
CATEGORIES:Training,Webinar
ATTACH;FMTTYPE=image/png:https://nahj.org/wp-content/uploads/2026/03/Media-Law-Training-7.png
END:VEVENT
END:VCALENDAR