BEGIN:VCALENDAR
VERSION:2.0
PRODID:-//National Association of Hispanic Journalists - ECPv6.15.20//NONSGML v1.0//EN
CALSCALE:GREGORIAN
METHOD:PUBLISH
X-WR-CALNAME:National Association of Hispanic Journalists
X-ORIGINAL-URL:https://nahj.org
X-WR-CALDESC:Events for National Association of Hispanic Journalists
REFRESH-INTERVAL;VALUE=DURATION:PT1H
X-Robots-Tag:noindex
X-PUBLISHED-TTL:PT1H
BEGIN:VTIMEZONE
TZID:America/New_York
BEGIN:DAYLIGHT
TZOFFSETFROM:-0500
TZOFFSETTO:-0400
TZNAME:EDT
DTSTART:20250309T070000
END:DAYLIGHT
BEGIN:STANDARD
TZOFFSETFROM:-0400
TZOFFSETTO:-0500
TZNAME:EST
DTSTART:20251102T060000
END:STANDARD
BEGIN:DAYLIGHT
TZOFFSETFROM:-0500
TZOFFSETTO:-0400
TZNAME:EDT
DTSTART:20260308T070000
END:DAYLIGHT
BEGIN:STANDARD
TZOFFSETFROM:-0400
TZOFFSETTO:-0500
TZNAME:EST
DTSTART:20261101T060000
END:STANDARD
BEGIN:DAYLIGHT
TZOFFSETFROM:-0500
TZOFFSETTO:-0400
TZNAME:EDT
DTSTART:20270314T070000
END:DAYLIGHT
BEGIN:STANDARD
TZOFFSETFROM:-0400
TZOFFSETTO:-0500
TZNAME:EST
DTSTART:20271107T060000
END:STANDARD
END:VTIMEZONE
BEGIN:VEVENT
DTSTART;VALUE=DATE:20260722
DTEND;VALUE=DATE:20260723
DTSTAMP:20260425T141029
CREATED:20251223T073000Z
LAST-MODIFIED:20260324T231800Z
UID:24798-1784678400-1784764799@nahj.org
SUMMARY:NAHJ Conference & Expo — New Orleans 2026
DESCRIPTION:The NAHJ national conference\, offers unparalleled career development opportunities with leading Hispanic journalists and media professionals. This annual gathering features workshops and panels that provide essential tools for career growth in a rapidly evolving industry. Attendees gain valuable insights on storytelling\, media trends\, and diversity in journalism\, making it a must-attend event for professionals and students alike. It’s taking place July 22-25 in New Orleans\, Louisiana. \nEarly bird registration ends on March 31! Register now and save. \nFor more information visit: https://nahjconference.org.
URL:https://nahj.org/event/nahj-conference-expo-new-orleans-2026/
LOCATION:New Orleans Marriott\, 555 Canal St.\, New Orleans\, LA\, United States
CATEGORIES:Conference,Networking
ATTACH;FMTTYPE=image/png:https://nahj.org/wp-content/uploads/2025/12/NAHJ26_SocialMediaKit-7-Web-Banner-Conference-Invite-1.png
END:VEVENT
END:VCALENDAR